BEGIN:VCALENDAR
VERSION:2.0
PRODID:-//Chi Medics - ECPv6.15.20//NONSGML v1.0//EN
CALSCALE:GREGORIAN
METHOD:PUBLISH
X-WR-CALNAME:Chi Medics
X-ORIGINAL-URL:https://chi-medics.com
X-WR-CALDESC:Events for Chi Medics
REFRESH-INTERVAL;VALUE=DURATION:PT1H
X-Robots-Tag:noindex
X-PUBLISHED-TTL:PT1H
BEGIN:VTIMEZONE
TZID:Europe/London
BEGIN:DAYLIGHT
TZOFFSETFROM:+0000
TZOFFSETTO:+0100
TZNAME:BST
DTSTART:20250330T010000
END:DAYLIGHT
BEGIN:STANDARD
TZOFFSETFROM:+0100
TZOFFSETTO:+0000
TZNAME:GMT
DTSTART:20251026T010000
END:STANDARD
BEGIN:DAYLIGHT
TZOFFSETFROM:+0000
TZOFFSETTO:+0100
TZNAME:BST
DTSTART:20260329T010000
END:DAYLIGHT
BEGIN:STANDARD
TZOFFSETFROM:+0100
TZOFFSETTO:+0000
TZNAME:GMT
DTSTART:20261025T010000
END:STANDARD
BEGIN:DAYLIGHT
TZOFFSETFROM:+0000
TZOFFSETTO:+0100
TZNAME:BST
DTSTART:20270328T010000
END:DAYLIGHT
BEGIN:STANDARD
TZOFFSETFROM:+0100
TZOFFSETTO:+0000
TZNAME:GMT
DTSTART:20271031T010000
END:STANDARD
END:VTIMEZONE
BEGIN:VEVENT
DTSTART;TZID=Europe/London:20260626T090000
DTEND;TZID=Europe/London:20260626T090000
DTSTAMP:20260421T141311
CREATED:20260320T143821Z
LAST-MODIFIED:20260415T220730Z
UID:2950-1782464400-1782464400@chi-medics.com
SUMMARY:Chi Medics – Via The Feet\, Practitioner Training- Payment Level 6 The Retreat
DESCRIPTION:Event linked to product: Chi Medics – Via The Feet\, Practitioner Training- Payment Level 6 The Retreat
URL:https://chi-medics.com/event/chi-medics-via-the-feet-practitioner-training-payment-level-6-the-retreat/
ATTACH;FMTTYPE=image/png:https://chi-medics.com/wp-content/uploads/2026/03/Practitioners-complete-Training-3.png
END:VEVENT
END:VCALENDAR